BEGIN:VCALENDAR
VERSION:2.0
PRODID:-//wp-events-plugin.com//7.2.3.1//EN
TZID:Europe/Berlin
X-WR-TIMEZONE:Europe/Berlin
BEGIN:VEVENT
UID:34@gcg-baunatal.de
DTSTART;TZID=Europe/Berlin:20250201T200000
DTEND;TZID=Europe/Berlin:20250201T235900
DTSTAMP:20241115T180530Z
URL:https://www.gcg-baunatal.de/events/sparkassen-karneval-2025-grosse-pru
 nk-und-galasitzung/
SUMMARY:SPARKASSEN-KARNEVAL 2025: GROSSE PRUNK- UND GALASITZUNG
DESCRIPTION:Wir sind dabei\, Welche Garde wird noch bekannt gegeben
CATEGORIES:Kampagne
LOCATION:https://www.google.com/maps/place/Kassel+Kongress+Palais/@51.31649
 22,9.4608459,585m/data=!3m2!1e3!4b1!4m6!3m5!1s0x47bb3f6ea50fef65:0x1318e3c
 14846bada!8m2!3d51.3164922!4d9.4608459!16s%2Fg%2F122hclx5?entry=ttu&g_ep=E
 goyMDI0MTExMy4xIKXMDSoASAFQAw%3D%3D
END:VEVENT
BEGIN:VTIMEZONE
TZID:Europe/Berlin
X-LIC-LOCATION:Europe/Berlin
BEGIN:STANDARD
DTSTART:20241027T020000
TZOFFSETFROM:+0200
TZOFFSETTO:+0100
TZNAME:CET
END:STANDARD
END:VTIMEZONE
END:VCALENDAR