BEGIN:VCALENDAR
VERSION:2.0
PRODID:-//wp-events-plugin.com//7.2.3.1//EN
TZID:Europe/Berlin
X-WR-TIMEZONE:Europe/Berlin
BEGIN:VEVENT
UID:33@gcg-baunatal.de
DTSTART;TZID=Europe/Berlin:20241201T090000
DTEND;TZID=Europe/Berlin:20241201T173000
DTSTAMP:20241115T181106Z
URL:https://www.gcg-baunatal.de/events/turnier-muehlheim/
SUMMARY:Turnier Mühlheim
DESCRIPTION:Wir sind mit der Stadtgarde beim Turnier vertreten
ATTACH;FMTTYPE=image/jpeg:https://www.gcg-baunatal.de/wp-content/uploads/2
 024/11/Muelheimer-Karnevals-Gesellschaft.jpg
CATEGORIES:Turniere
LOCATION:https://www.google.com/maps/place/Westenergie+Sporthalle/@51.42376
 9,6.893295,583m/data=!3m2!1e3!4b1!4m6!3m5!1s0x47b8c1666d69e4a7:0x4cc3d8f6b
 c8c5f00!8m2!3d51.423769!4d6.893295!16s%2Fg%2F1tdfgsh_?entry=ttu&g_ep=EgoyM
 DI0MTExMi4wIKXMDSoASAFQAw%3D%3D
END:VEVENT
BEGIN:VTIMEZONE
TZID:Europe/Berlin
X-LIC-LOCATION:Europe/Berlin
BEGIN:STANDARD
DTSTART:20241027T020000
TZOFFSETFROM:+0200
TZOFFSETTO:+0100
TZNAME:CET
END:STANDARD
END:VTIMEZONE
END:VCALENDAR